

BEGIN:VCALENDAR
VERSION:2.0
PRODID:-//Laurel Haven Estate - ECPv6.15.20//NONSGML v1.0//EN
CALSCALE:GREGORIAN
METHOD:PUBLISH
X-ORIGINAL-URL:https://laurelhavenestate.com
X-WR-CALDESC:Events for Laurel Haven Estate
REFRESH-INTERVAL;VALUE=DURATION:PT1H
X-Robots-Tag:noindex
X-PUBLISHED-TTL:PT1H
BEGIN:VTIMEZONE
TZID:America/New_York
BEGIN:DAYLIGHT
TZOFFSETFROM:-0500
TZOFFSETTO:-0400
TZNAME:EDT
DTSTART:20250309T070000
END:DAYLIGHT
BEGIN:STANDARD
TZOFFSETFROM:-0400
TZOFFSETTO:-0500
TZNAME:EST
DTSTART:20251102T060000
END:STANDARD
BEGIN:DAYLIGHT
TZOFFSETFROM:-0500
TZOFFSETTO:-0400
TZNAME:EDT
DTSTART:20260308T070000
END:DAYLIGHT
BEGIN:STANDARD
TZOFFSETFROM:-0400
TZOFFSETTO:-0500
TZNAME:EST
DTSTART:20261101T060000
END:STANDARD
BEGIN:DAYLIGHT
TZOFFSETFROM:-0500
TZOFFSETTO:-0400
TZNAME:EDT
DTSTART:20270314T070000
END:DAYLIGHT
BEGIN:STANDARD
TZOFFSETFROM:-0400
TZOFFSETTO:-0500
TZNAME:EST
DTSTART:20271107T060000
END:STANDARD
END:VTIMEZONE
BEGIN:VEVENT
DTSTART;TZID=America/New_York:20260417T180000
DTEND;TZID=America/New_York:20260417T210000
DTSTAMP:20260423T055919
CREATED:20260219T183436Z
LAST-MODIFIED:20260414T153552Z
UID:10000239-1776448800-1776459600@laurelhavenestate.com
SUMMARY:Spring Wine Dinner
DESCRIPTION:Spring Wine Dinner at Laurel Haven Estate\nFour-Course Dinner with Wine Pairings\nFriday\, April 17\, 2026 | 6:00–9:00 PMLaurel Haven Estate Vineyard & Winery\n\nCelebrate the beauty of the season with an unforgettable evening of fresh flavors\, fine wine\, and golden vineyard views at Laurel Haven Estate. \nJoin us for our Spring Wine Dinner\, an elegant four-course experience featuring a chef-crafted seasonal menu thoughtfully paired with Laurel Haven wines served alongside each course. Expect glowing candlelight\, beautifully set tables\, and that dreamy vineyard-at-sunset atmosphere Laurel Haven is known for. \nThis is a limited-seating event designed for guests who appreciate exceptional food\, elevated wine pairings\, and an intimate evening that feels refined\, relaxed\, and just a little magical. \n\n\nWhat Your Ticket Includes ($95 / Ticket) \nWelcome Drink\nFour Course Dinner & Wine Pairing\nFirst Course: Mixed Berry Spring Salad – Arugula\, shaved fennel\, slivered almonds\, local goat cheese from Fishing Creek Creamery (Chester)\, Champagne–Estate Honey vinaigrette\nSecond Course: Oven-Roasted Maryland Style Blue Crab Cake – Lemon-garlic broccolini\, Old Bay remoulade\nThird Course: Lamb or Braised Beef Ragout – Spring pesto orzo with Appalachian ramps\, asparagus\, slivered radish\, shaved parmesan\nFourth Course: Citrus-Blueberry Mascarpone Cheesecake – Macerated berries\, lavender whipped cream\, candied lemon
URL:https://laurelhavenestate.com/event/wine-dinner/
LOCATION:Laurel Haven Estate\, 3341 Taxahaw Rd\, Lancaster\, SC\, 29720\, United States
CATEGORIES:Wine Tasting
ATTACH;FMTTYPE=image/jpeg:https://laurelhavenestate.com/wp-content/uploads/2026/02/Wine-Dinner.jpg
ORGANIZER;CN="Laurel Haven Estate":MAILTO:info@laurelhavenestate.com
END:VEVENT
END:VCALENDAR