

BEGIN:VCALENDAR
VERSION:2.0
PRODID:-//Laurel Haven Estate - ECPv6.15.20//NONSGML v1.0//EN
CALSCALE:GREGORIAN
METHOD:PUBLISH
X-WR-CALNAME:Laurel Haven Estate
X-ORIGINAL-URL:https://laurelhavenestate.com
X-WR-CALDESC:Events for Laurel Haven Estate
REFRESH-INTERVAL;VALUE=DURATION:PT1H
X-Robots-Tag:noindex
X-PUBLISHED-TTL:PT1H
BEGIN:VTIMEZONE
TZID:America/New_York
BEGIN:DAYLIGHT
TZOFFSETFROM:-0500
TZOFFSETTO:-0400
TZNAME:EDT
DTSTART:20250309T070000
END:DAYLIGHT
BEGIN:STANDARD
TZOFFSETFROM:-0400
TZOFFSETTO:-0500
TZNAME:EST
DTSTART:20251102T060000
END:STANDARD
BEGIN:DAYLIGHT
TZOFFSETFROM:-0500
TZOFFSETTO:-0400
TZNAME:EDT
DTSTART:20260308T070000
END:DAYLIGHT
BEGIN:STANDARD
TZOFFSETFROM:-0400
TZOFFSETTO:-0500
TZNAME:EST
DTSTART:20261101T060000
END:STANDARD
BEGIN:DAYLIGHT
TZOFFSETFROM:-0500
TZOFFSETTO:-0400
TZNAME:EDT
DTSTART:20270314T070000
END:DAYLIGHT
BEGIN:STANDARD
TZOFFSETFROM:-0400
TZOFFSETTO:-0500
TZNAME:EST
DTSTART:20271107T060000
END:STANDARD
END:VTIMEZONE
BEGIN:VEVENT
DTSTART;TZID=America/New_York:20260509T090000
DTEND;TZID=America/New_York:20260509T160000
DTSTAMP:20260421T040247
CREATED:20260317T175204Z
LAST-MODIFIED:20260409T171738Z
UID:10000243-1778317200-1778342400@laurelhavenestate.com
SUMMARY:Ag + Art Tour at Laurel Haven Estate Vineyard & Winery
DESCRIPTION:Ag + Art Tour at Laurel Haven Estate\nMay 9\, 2026 | 10:00 AM – 4:00 PM\n\nFREE Admission \nJoin us as we participate in South Carolina’s Ag + Art Tour — the nation’s largest free\, self-guided farm and art tour — right here at Laurel Haven Estate. \nSpend the day exploring our vineyard\, learning about the agricultural side of winemaking\, and experiencing the beautiful blend of farming and artistry that makes our estate so special. \n\nDuring your visit\, you can enjoy:\n• Wine tasting flights ($20–22)\n• Local artisan market from 10am-4pm\n• Self-guided vineyard tours and pond views\n• Take photos at our favorite estate spots \n\nMake it a full experience:\n• Enjoy delicious bites from our Bistro\n• Enjoy wine by the glass or bottle\n• Book a stay at our B&B and turn it into a relaxing weekend \n\nCome wander the vines\, meet local artists\, learn about our growing vineyard\, and enjoy a day rooted in agriculture\, creativity\, and good wine. \n\n\nFully handicap accessible property\nRain or shine—we’ve got you covered\nKid-friendly for the whole family\nPet-friendly in all outdoor spaces
URL:https://laurelhavenestate.com/event/ag-art-tour/
LOCATION:Laurel Haven Estate\, 3341 Taxahaw Rd\, Lancaster\, SC\, 29720\, United States
CATEGORIES:Live Music,Mother's Day,Spring Event,Wine Tasting
ATTACH;FMTTYPE=image/jpeg:https://laurelhavenestate.com/wp-content/uploads/2026/03/AG-ART-TOUR-LANACASTER-COUNTY.jpg
ORGANIZER;CN="Laurel Haven Estate":MAILTO:info@laurelhavenestate.com
END:VEVENT
BEGIN:VEVENT
DTSTART;TZID=America/New_York:20260510T100000
DTEND;TZID=America/New_York:20260510T180000
DTSTAMP:20260421T040247
CREATED:20260317T180100Z
LAST-MODIFIED:20260409T171947Z
UID:10000244-1778407200-1778436000@laurelhavenestate.com
SUMMARY:Mother's Day Buffet at Laurel Haven Estate
DESCRIPTION:Mother’s Day Buffet at Laurel Haven Estate\nCelebrate Mother’s Day with us at the vineyard with a beautiful\, family-friendly Buffet surrounded by spring blooms and vineyard views. Gather your people\, relax\, and let us handle the cooking.\n\n\nSunday\, May 10 | 10:00 AM – 6:00 PM\nAll-Day Buffet | $50 per person\nKids 12 & under: $20\n\n\nEnjoy a thoughtfully prepared spread of delicious favorites\, sweet treats\, and seasonal dishes—perfect for brunch lovers\, dinner crowds\, and everyone in between. \n\nMultiple wine bars + a dedicated mimosa bar\nReservation for buffet is required\nFamily-friendly\nRelaxed spring atmosphere\nLive Music\n\n\nCome for brunch\, stay for the wine\, and turn Mother’s Day into a full vineyard day. Skip the cooking\, keep the wine\, and celebrate with us. \n✨Not feeling like eating? No problem.\nCome out just for wine\, live music\, and relaxed vineyard vibes. The winery will be open all day for self-seating and bar ordering—no reservation needed if you’re just sipping. \n\nBook your reservation now: https://laurelhavenestate.com/bistro/#reservations\n\nTHE MENU\n\nLoaded Mashed Potatoes (GF)\nCreamy Cavatappi Sharp Cheddar Mac & Cheese\nHouse-made Caesar Salad with Crispy Garlic Croutons\nLemon Garlic Butter French Green Beans (GF)\nStone Ground Shrimp & Grits with Caramelized Onions\, Sun Dried Tomatoes & Cajun Cream Sauce\nPeel & Eat Shrimp Cocktail with Lemon & Cocktail Sauce (GF)\nLemon-Caper-Dill Baked Atlantic Salmon (GF)\nChef’s Vegetarian Baked Baby Spinach & Mozzarella Frittata (GF)\nThick Sliced Hickory Smoked Bacon (GF)\nSavory Breakfast Sausage Patties (GF)\nItalian Meatballs with Garlic-Herb Marinara (GF)\nCreamy Chicken Alfredo\nRotisserie Sliced Top Sirloin with Natural Jus & Horseradish Aioli (GF)\nChicken & Waffles\nChef’s Assorted Dessert Bar\n\n\n\nFully handicap accessible property\nRain or shine—we’ve got you covered\nKid-friendly for the whole family\nPet-friendly in all outdoor spaces
URL:https://laurelhavenestate.com/event/mothers-day-buffet/
LOCATION:Laurel Haven Estate\, 3341 Taxahaw Rd\, Lancaster\, SC\, 29720\, United States
CATEGORIES:Live Music,Mother's Day,Spring Event,Wine Tasting
ATTACH;FMTTYPE=image/jpeg:https://laurelhavenestate.com/wp-content/uploads/2026/03/Mothers-Day-Buffet-at-Laurel-Haven-Estate.jpg
ORGANIZER;CN="Laurel Haven Estate":MAILTO:info@laurelhavenestate.com
END:VEVENT
END:VCALENDAR